BEGIN:VCALENDAR
VERSION:2.0
PRODID:-//Pelican Bay - ECPv6.15.20//NONSGML v1.0//EN
CALSCALE:GREGORIAN
METHOD:PUBLISH
X-ORIGINAL-URL:https://pelicanbayaquatics.com
X-WR-CALDESC:Events for Pelican Bay
REFRESH-INTERVAL;VALUE=DURATION:PT1H
X-Robots-Tag:noindex
X-PUBLISHED-TTL:PT1H
BEGIN:VTIMEZONE
TZID:UTC
BEGIN:STANDARD
TZOFFSETFROM:+0000
TZOFFSETTO:+0000
TZNAME:UTC
DTSTART:20220101T000000
END:STANDARD
END:VTIMEZONE
BEGIN:VEVENT
DTSTART;TZID=UTC:20230526T160000
DTEND;TZID=UTC:20230526T200000
DTSTAMP:20260425T121422
CREATED:20230320T172524Z
LAST-MODIFIED:20230320T174422Z
UID:3494-1685116800-1685131200@pelicanbayaquatics.com
SUMMARY:Passholder Night
DESCRIPTION:Pass holders can visit Pelican Bay before we open to the public. \nFree for pass holders.
URL:https://pelicanbayaquatics.com/event/passholder-night/
ATTACH;FMTTYPE=image/jpeg:https://pelicanbayaquatics.com/wp-content/uploads/2022/01/istockphoto-509783057-612x612-1.jpeg
END:VEVENT
BEGIN:VEVENT
DTSTART;TZID=UTC:20230527T110000
DTEND;TZID=UTC:20230527T180000
DTSTAMP:20260425T121422
CREATED:20230320T172127Z
LAST-MODIFIED:20230320T174335Z
UID:3492-1685185200-1685210400@pelicanbayaquatics.com
SUMMARY:First day of the Season
DESCRIPTION:The 2023 Season is finally here! \nOpen to the public and pass holders.
URL:https://pelicanbayaquatics.com/event/first-day-of-the-season/
ATTACH;FMTTYPE=image/jpeg:https://pelicanbayaquatics.com/wp-content/uploads/2022/01/istockphoto-509801333-612x612-1.jpeg
END:VEVENT
BEGIN:VEVENT
DTSTART;TZID=UTC:20230530T080000
DTEND;TZID=UTC:20230530T170000
DTSTAMP:20260425T121422
CREATED:20230320T174725Z
LAST-MODIFIED:20230320T174725Z
UID:3501-1685433600-1685466000@pelicanbayaquatics.com
SUMMARY:First Day of Swim Lesson
DESCRIPTION:Group lessons and private lessons are available. Book online.
URL:https://pelicanbayaquatics.com/event/first-day-of-swim-lesson/
ATTACH;FMTTYPE=image/jpeg:https://pelicanbayaquatics.com/wp-content/uploads/2022/01/istockphoto-509106258-2048x2048-1.jpg
END:VEVENT
END:VCALENDAR