BEGIN:VCALENDAR
VERSION:2.0
PRODID:-//Pelican Bay - ECPv6.15.20//NONSGML v1.0//EN
CALSCALE:GREGORIAN
METHOD:PUBLISH
X-WR-CALNAME:Pelican Bay
X-ORIGINAL-URL:https://pelicanbayaquatics.com
X-WR-CALDESC:Events for Pelican Bay
REFRESH-INTERVAL;VALUE=DURATION:PT1H
X-Robots-Tag:noindex
X-PUBLISHED-TTL:PT1H
BEGIN:VTIMEZONE
TZID:UTC
BEGIN:STANDARD
TZOFFSETFROM:+0000
TZOFFSETTO:+0000
TZNAME:UTC
DTSTART:20220101T000000
END:STANDARD
END:VTIMEZONE
BEGIN:VEVENT
DTSTART;TZID=UTC:20240530T190000
DTEND;TZID=UTC:20240530T210000
DTSTAMP:20260420T043538
CREATED:20240405T160044Z
LAST-MODIFIED:20240526T160713Z
UID:5856-1717095600-1717102800@pelicanbayaquatics.com
SUMMARY:Twilight Swim
DESCRIPTION:
URL:https://pelicanbayaquatics.com/event/twilight-swim-18/
LOCATION:Pelican Bay Aquatic Center
ATTACH;FMTTYPE=image/jpeg:https://pelicanbayaquatics.com/wp-content/uploads/2022/03/PBAY_6.jpg
END:VEVENT
BEGIN:VEVENT
DTSTART;TZID=UTC:20240528T190000
DTEND;TZID=UTC:20240528T210000
DTSTAMP:20260420T043538
CREATED:20230320T181746Z
LAST-MODIFIED:20240327T004124Z
UID:3506-1716922800-1716930000@pelicanbayaquatics.com
SUMMARY:First Twilight Swim of the Season
DESCRIPTION:PBAY 6\nTwilight swim will be held every Tuesday & Thursday from 7 pm- 9 pm
URL:https://pelicanbayaquatics.com/event/first-twilight-swim-of-the-season/
ATTACH;FMTTYPE=image/jpeg:https://pelicanbayaquatics.com/wp-content/uploads/2023/03/PBAY_6.jpg
END:VEVENT
BEGIN:VEVENT
DTSTART;TZID=UTC:20240525T110000
DTEND;TZID=UTC:20240525T180000
DTSTAMP:20260420T043538
CREATED:20220202T161509Z
LAST-MODIFIED:20240327T003838Z
UID:736-1716634800-1716660000@pelicanbayaquatics.com
SUMMARY:First day of the Season
DESCRIPTION:2024 Season is finally here! \nOpen to the public and passholders.
URL:https://pelicanbayaquatics.com/event/event-3/
LOCATION:Pelican Bay Aquatic Center
ATTACH;FMTTYPE=image/jpeg:https://pelicanbayaquatics.com/wp-content/uploads/2022/02/PBAY_2021_1.jpg
END:VEVENT
BEGIN:VEVENT
DTSTART;TZID=UTC:20240524T170000
DTEND;TZID=UTC:20240524T200000
DTSTAMP:20260420T043538
CREATED:20220202T161505Z
LAST-MODIFIED:20240327T003452Z
UID:735-1716570000-1716580800@pelicanbayaquatics.com
SUMMARY:Passholder Night
DESCRIPTION:PBAY Passholder Night 1\nPassholders can visit Pelican Bay before we open to the public. \nFree for passholders
URL:https://pelicanbayaquatics.com/event/event-2/
LOCATION:Pelican Bay Aquatic Center
ATTACH;FMTTYPE=image/png:https://pelicanbayaquatics.com/wp-content/uploads/2022/02/PBAY_7.png
END:VEVENT
BEGIN:VEVENT
DTSTART;TZID=UTC:20240522T180000
DTEND;TZID=UTC:20240522T190000
DTSTAMP:20260420T043538
CREATED:20240505T154610Z
LAST-MODIFIED:20240505T154610Z
UID:6621-1716400800-1716404400@pelicanbayaquatics.com
SUMMARY:Swim Team Parents Information Meeting
DESCRIPTION:Come learn more about our new Summer Recreational Swim Team- the Sharks at our parent information meeting. We will go over team details\, dates\, competition location\, and more. You don’t need to have your child sign up to attend. We will have registrations open (pending capacity limits in each division) on site. \nPBAY Logo Swim Team Sharks Social
URL:https://pelicanbayaquatics.com/event/swim-team-parents-information-meeting/
LOCATION:Pelican Bay Aquatic Center
END:VEVENT
BEGIN:VEVENT
DTSTART;TZID=UTC:20230909T140000
DTEND;TZID=UTC:20230909T170000
DTSTAMP:20260420T043538
CREATED:20230320T184345Z
LAST-MODIFIED:20230901T163511Z
UID:3534-1694268000-1694278800@pelicanbayaquatics.com
SUMMARY:Doggie Paddle Session 2- Large Dogs (above 50 lbs)
DESCRIPTION:Our fluffiest event of the year is back! We close our 2023 season by letting our four-legged friends enjoy the pool and have fun before we close for cleaning. \nThis year we are doing 2 sessions and separating small dogs (under 50 lbs) and larger dogs (above 50 lbs) for their safety. $10.00 per dog (Not per person. Max of 2 dogs per person). Proof of rabies vaccines is required. Spots are limited. \nGet your tickets here to sign the waiver and reserve your spot: https://app.jackrabbitclass.com/jr3.0/Openings/OpeningsDirect?OrgID=544893&Cat1=Special%20Event%20Doggie%20Paddle&hidecols=Description\,Session\,Gender \n 
URL:https://pelicanbayaquatics.com/event/doggie-paddle-session-2/
ATTACH;FMTTYPE=image/jpeg:https://pelicanbayaquatics.com/wp-content/uploads/2022/09/PBAY_DoggyPaddle2021_87-scaled.jpg
END:VEVENT
BEGIN:VEVENT
DTSTART;TZID=UTC:20230909T090000
DTEND;TZID=UTC:20230909T120000
DTSTAMP:20260420T043538
CREATED:20230320T184258Z
LAST-MODIFIED:20230901T163719Z
UID:3532-1694250000-1694260800@pelicanbayaquatics.com
SUMMARY:Doggie Paddle Session 1 Small Dogs (under 50 lbs)
DESCRIPTION:Our fluffiest event of the year is back! We close our 2023 season by letting our four-legged friends enjoy the pool and have fun before we close for cleaning. \nThis year we are doing 2 sessions and separating small dogs(under 50 lbs) and larger dogs (above 50 lbs) for their safety. $10.00 per dog. \n(Not per person. Max of 2 dogs per person). Proof of rabies vaccines is required. Spots are limited. \nGet your tickets here to sign the waiver and reserve your spot: https://app.jackrabbitclass.com/jr3.0/Openings/OpeningsDirect?OrgID=544893&Cat1=Special%20Event%20Doggie%20Paddle&hidecols=Description\,Session\,Gender \n 
URL:https://pelicanbayaquatics.com/event/doggie-paddle-session-1/
ATTACH;FMTTYPE=image/jpeg:https://pelicanbayaquatics.com/wp-content/uploads/2022/09/PBAY_DoggyPaddle2021_9-scaled.jpg
END:VEVENT
BEGIN:VEVENT
DTSTART;TZID=UTC:20230904T120000
DTEND;TZID=UTC:20230904T180000
DTSTAMP:20260420T043538
CREATED:20230321T135313Z
LAST-MODIFIED:20230904T150734Z
UID:3626-1693828800-1693850400@pelicanbayaquatics.com
SUMMARY:Last Day of the Season
DESCRIPTION:Last day of the season! We will see you next year.
URL:https://pelicanbayaquatics.com/event/last-day-of-the-season/
ATTACH;FMTTYPE=image/jpeg:https://pelicanbayaquatics.com/wp-content/uploads/2022/03/PBAY_9.jpg
END:VEVENT
BEGIN:VEVENT
DTSTART;TZID=UTC:20230829T100000
DTEND;TZID=UTC:20230829T120000
DTSTAMP:20260420T043538
CREATED:20230706T204750Z
LAST-MODIFIED:20230706T204750Z
UID:4494-1693303200-1693310400@pelicanbayaquatics.com
SUMMARY:Tot Tuesday
DESCRIPTION:Every Tuesday in August starting on August 8th\, from 10am- 12pm we will have the playground and the splash pad open for your toddlers to enjoy. $2.00 per person. Free for our Seasonal Passholders.
URL:https://pelicanbayaquatics.com/event/tot-tuesday-4/
LOCATION:Pelican Bay Aquatic Center
ATTACH;FMTTYPE=image/jpeg:https://pelicanbayaquatics.com/wp-content/uploads/2022/01/istockphoto-483949508-2048x2048-1.jpg
END:VEVENT
BEGIN:VEVENT
DTSTART;TZID=UTC:20230822T100000
DTEND;TZID=UTC:20230822T120000
DTSTAMP:20260420T043538
CREATED:20230706T204705Z
LAST-MODIFIED:20230706T204705Z
UID:4492-1692698400-1692705600@pelicanbayaquatics.com
SUMMARY:Tot Tuesday
DESCRIPTION:Every Tuesday in August starting on August 8th\, from 10am- 12pm we will have the playground and the splash pad open for your toddlers to enjoy. $2.00 per person. Free for our Seasonal Passholders.
URL:https://pelicanbayaquatics.com/event/tot-tuesday-3/
LOCATION:Pelican Bay Aquatic Center
ATTACH;FMTTYPE=image/webp:https://pelicanbayaquatics.com/wp-content/uploads/2022/02/f63f11_7f32478300de493a87581b75f7b0dca0_mv2_d_4928_3264_s_4_2.webp
END:VEVENT
BEGIN:VEVENT
DTSTART;TZID=UTC:20230820T190000
DTEND;TZID=UTC:20230820T210000
DTSTAMP:20260420T043538
CREATED:20230628T200159Z
LAST-MODIFIED:20230720T191217Z
UID:4451-1692558000-1692565200@pelicanbayaquatics.com
SUMMARY:Passholder Appreciation Night
DESCRIPTION:Get ready to make a splash at our special Passholder Appreciation Night at Pelican Bay!  As a heartfelt ‘thank you’ to our valued season pass holders\, we’ve planned an evening of fun\, music\, and exclusive perks. Enjoy extended hours\, live entertainment\, and mouth-watering refreshments\, all while basking in the beautiful summer night. It’s our way of saying\, ‘We appreciate you.’ Join us for a night under the stars\, and let’s create more unforgettable memories together. 💙
URL:https://pelicanbayaquatics.com/event/passholder-appreciation-night/
LOCATION:Pelican Bay Aquatic Center
ATTACH;FMTTYPE=image/jpeg:https://pelicanbayaquatics.com/wp-content/uploads/2022/01/istockphoto-509801333-612x612-1.jpeg
END:VEVENT
BEGIN:VEVENT
DTSTART;TZID=UTC:20230819T090000
DTEND;TZID=UTC:20230820T160000
DTSTAMP:20260420T043538
CREATED:20230628T195854Z
LAST-MODIFIED:20230706T204040Z
UID:4449-1692435600-1692547200@pelicanbayaquatics.com
SUMMARY:Lifeguard Certification Course
DESCRIPTION:We added another session! Pelican Bay offers the Red Cross certification course for deep water swimming at a cost of $150\, with a $75 reimbursement for Pelican Bay employees. The course is available to individuals aged 15 and above who can successfully complete a series of swimming tasks\, including a 300-meter swim\, treading water for 2 minutes\, swimming 20 yards\, and retrieving a brick from the deep end. The certification is valid for 2 years and is taught by a qualified Red Cross instructor. The course is offered through a blended learning approach\, where participants must complete the online course prior to attending the in-person session.
URL:https://pelicanbayaquatics.com/event/lifeguard-certification-course/
LOCATION:Pelican Bay Aquatic Center
ATTACH;FMTTYPE=image/jpeg:https://pelicanbayaquatics.com/wp-content/uploads/2023/05/AdobeStock_519398380-scaled.jpeg
END:VEVENT
BEGIN:VEVENT
DTSTART;TZID=UTC:20230815T100000
DTEND;TZID=UTC:20230815T120000
DTSTAMP:20260420T043538
CREATED:20230706T204619Z
LAST-MODIFIED:20230706T204822Z
UID:4490-1692093600-1692100800@pelicanbayaquatics.com
SUMMARY:Tot Tuesday
DESCRIPTION:Every Tuesday in August starting on August 8th\, from 10am- 12pm we will have the playground and the splash pad open for your toddlers to enjoy. $2.00 per person. Free for our Seasonal Passholders.
URL:https://pelicanbayaquatics.com/event/tot-tuesday-2/
LOCATION:Pelican Bay Aquatic Center
ATTACH;FMTTYPE=image/webp:https://pelicanbayaquatics.com/wp-content/uploads/2022/02/f63f11_7f32478300de493a87581b75f7b0dca0_mv2_d_4928_3264_s_4_2.webp
END:VEVENT
BEGIN:VEVENT
DTSTART;TZID=UTC:20230808T100000
DTEND;TZID=UTC:20230808T120000
DTSTAMP:20260420T043538
CREATED:20230706T204543Z
LAST-MODIFIED:20230706T204903Z
UID:4488-1691488800-1691496000@pelicanbayaquatics.com
SUMMARY:Tot Tuesday!
DESCRIPTION:Every Tuesday in August starting on August 8th\, from 10am- 12pm we will have the playground and the splash pad open for your toddlers to enjoy. $2.00 per person. Free for our Seasonal Passholders.
URL:https://pelicanbayaquatics.com/event/tot-tuesday/
LOCATION:Pelican Bay Aquatic Center
ATTACH;FMTTYPE=image/jpeg:https://pelicanbayaquatics.com/wp-content/uploads/2022/01/istockphoto-483949508-2048x2048-1.jpg
END:VEVENT
BEGIN:VEVENT
DTSTART;TZID=UTC:20230804T080000
DTEND;TZID=UTC:20230804T170000
DTSTAMP:20260420T043538
CREATED:20230321T143234Z
LAST-MODIFIED:20230321T143234Z
UID:3634-1691136000-1691168400@pelicanbayaquatics.com
SUMMARY:Last Weekday of Pool Open
DESCRIPTION:Today is the last day the pool will be open on a weekday.
URL:https://pelicanbayaquatics.com/event/last-weekday-of-pool-open/
ATTACH;FMTTYPE=image/jpeg:https://pelicanbayaquatics.com/wp-content/uploads/2022/01/istockphoto-147038986-2048x2048-1-scaled.jpeg
END:VEVENT
BEGIN:VEVENT
DTSTART;TZID=UTC:20230804T080000
DTEND;TZID=UTC:20230804T085000
DTSTAMP:20260420T043538
CREATED:20230321T140001Z
LAST-MODIFIED:20230321T143845Z
UID:3632-1691136000-1691139000@pelicanbayaquatics.com
SUMMARY:AquaFitness
DESCRIPTION:AquaFitness will be held every Monday\, Wednesday\, and Friday from 8am to 8:50am this season. $6.00 and pass holders are free. \nTry our new class for all ages – Aqua Aerobics! Led by a trained instructor\, our class is the perfect morning workout to get the body moving and the heart pumping\, while staying low-impact.
URL:https://pelicanbayaquatics.com/event/aquafitness-27/
ATTACH;FMTTYPE=image/webp:https://pelicanbayaquatics.com/wp-content/uploads/2022/02/11062b_9f19a313467049cc8d0b58fdd44737ca_mv2.webp
END:VEVENT
BEGIN:VEVENT
DTSTART;TZID=UTC:20230803T190000
DTEND;TZID=UTC:20230803T210000
DTSTAMP:20260420T043538
CREATED:20230706T204341Z
LAST-MODIFIED:20230706T204341Z
UID:4486-1691089200-1691096400@pelicanbayaquatics.com
SUMMARY:Last Twilight Swim of the Season
DESCRIPTION:Come join us for the last Twilight Swim of the season. August 3rd.
URL:https://pelicanbayaquatics.com/event/last-twilight-swim-of-the-season/
END:VEVENT
BEGIN:VEVENT
DTSTART;TZID=UTC:20230803T190000
DTEND;TZID=UTC:20230803T210000
DTSTAMP:20260420T043538
CREATED:20230321T135358Z
LAST-MODIFIED:20230321T135358Z
UID:3628-1691089200-1691096400@pelicanbayaquatics.com
SUMMARY:Twilight Swim
DESCRIPTION:Twilight swim will be held every Tuesday & Thursday from 7 pm- 9 pm
URL:https://pelicanbayaquatics.com/event/twilight-swim-17/
ATTACH;FMTTYPE=image/jpeg:https://pelicanbayaquatics.com/wp-content/uploads/2023/03/PBAY_6.jpg
END:VEVENT
BEGIN:VEVENT
DTSTART;TZID=UTC:20230802T080000
DTEND;TZID=UTC:20230802T085000
DTSTAMP:20260420T043538
CREATED:20230321T135942Z
LAST-MODIFIED:20230321T143904Z
UID:3630-1690963200-1690966200@pelicanbayaquatics.com
SUMMARY:AquaFitness
DESCRIPTION:AquaFitness will be held every Monday\, Wednesday\, and Friday from 8am to 8:50am this season. \n$6.00 and pass holders are free. \nTry our new class for all ages – Aqua Aerobics! Led by a trained instructor\, our class is the perfect morning workout to get the body moving and the heart pumping\, while staying low-impact.
URL:https://pelicanbayaquatics.com/event/aquafitness-26/
ATTACH;FMTTYPE=image/webp:https://pelicanbayaquatics.com/wp-content/uploads/2022/02/11062b_9f19a313467049cc8d0b58fdd44737ca_mv2.webp
END:VEVENT
BEGIN:VEVENT
DTSTART;TZID=UTC:20230801T190000
DTEND;TZID=UTC:20230801T210000
DTSTAMP:20260420T043538
CREATED:20230320T192814Z
LAST-MODIFIED:20230320T193255Z
UID:3619-1690916400-1690923600@pelicanbayaquatics.com
SUMMARY:Twilight Swim
DESCRIPTION:Twilight swim will be held every Tuesday & Thursday from 7 pm- 9 pm
URL:https://pelicanbayaquatics.com/event/twilight-swim-16/
ATTACH;FMTTYPE=image/jpeg:https://pelicanbayaquatics.com/wp-content/uploads/2023/03/PBAY_6.jpg
END:VEVENT
BEGIN:VEVENT
DTSTART;TZID=UTC:20230731T080000
DTEND;TZID=UTC:20230731T085000
DTSTAMP:20260420T043538
CREATED:20230320T190311Z
LAST-MODIFIED:20230321T143926Z
UID:3587-1690790400-1690793400@pelicanbayaquatics.com
SUMMARY:AquaFitness
DESCRIPTION:AquaFitness will be held every Monday\, Wednesday\, and Friday from 8am to 8:50am this season. \n$6.00 and pass holders are free. \nTry our new class for all ages – Aqua Aerobics! Led by a trained instructor\, our class is the perfect morning workout to get the body moving and the heart pumping\, while staying low-impact.
URL:https://pelicanbayaquatics.com/event/aquafitness-25/
ATTACH;FMTTYPE=image/webp:https://pelicanbayaquatics.com/wp-content/uploads/2022/02/11062b_9f19a313467049cc8d0b58fdd44737ca_mv2.webp
END:VEVENT
BEGIN:VEVENT
DTSTART;TZID=UTC:20230728T080000
DTEND;TZID=UTC:20230728T085000
DTSTAMP:20260420T043538
CREATED:20230320T190257Z
LAST-MODIFIED:20230321T143943Z
UID:3585-1690531200-1690534200@pelicanbayaquatics.com
SUMMARY:AquaFitness
DESCRIPTION:AquaFitness will be held every Monday\, Wednesday\, and Friday from 8am to 8:50am this season. \n$6.00 and pass holders are free. \nTry our new class for all ages – Aqua Aerobics! Led by a trained instructor\, our class is the perfect morning workout to get the body moving and the heart pumping\, while staying low-impact.
URL:https://pelicanbayaquatics.com/event/aquafitness-24/
ATTACH;FMTTYPE=image/webp:https://pelicanbayaquatics.com/wp-content/uploads/2022/02/11062b_9f19a313467049cc8d0b58fdd44737ca_mv2.webp
END:VEVENT
BEGIN:VEVENT
DTSTART;TZID=UTC:20230727T190000
DTEND;TZID=UTC:20230727T210000
DTSTAMP:20260420T043538
CREATED:20230320T190923Z
LAST-MODIFIED:20230320T190923Z
UID:3617-1690484400-1690491600@pelicanbayaquatics.com
SUMMARY:Twilight Swim
DESCRIPTION:Twilight swim will be held every Tuesday & Thursday from 7 pm- 9 pm
URL:https://pelicanbayaquatics.com/event/twilight-swim-15/
ATTACH;FMTTYPE=image/jpeg:https://pelicanbayaquatics.com/wp-content/uploads/2023/03/PBAY_6.jpg
END:VEVENT
BEGIN:VEVENT
DTSTART;TZID=UTC:20230726T080000
DTEND;TZID=UTC:20230726T085000
DTSTAMP:20260420T043538
CREATED:20230320T190243Z
LAST-MODIFIED:20230321T143959Z
UID:3583-1690358400-1690361400@pelicanbayaquatics.com
SUMMARY:AquaFitness
DESCRIPTION:AquaFitness will be held every Monday\, Wednesday\, and Friday from 8am to 8:50am this season. \n$6.00 and pass holders are free. \nTry our new class for all ages – Aqua Aerobics! Led by a trained instructor\, our class is the perfect morning workout to get the body moving and the heart pumping\, while staying low-impact.
URL:https://pelicanbayaquatics.com/event/aquafitness-23/
ATTACH;FMTTYPE=image/webp:https://pelicanbayaquatics.com/wp-content/uploads/2022/02/11062b_9f19a313467049cc8d0b58fdd44737ca_mv2.webp
END:VEVENT
BEGIN:VEVENT
DTSTART;TZID=UTC:20230725T190000
DTEND;TZID=UTC:20230725T210000
DTSTAMP:20260420T043538
CREATED:20230320T190911Z
LAST-MODIFIED:20230320T190911Z
UID:3615-1690311600-1690318800@pelicanbayaquatics.com
SUMMARY:Twilight Swim
DESCRIPTION:Twilight swim will be held every Tuesday & Thursday from 7 pm- 9 pm
URL:https://pelicanbayaquatics.com/event/twilight-swim-14/
ATTACH;FMTTYPE=image/jpeg:https://pelicanbayaquatics.com/wp-content/uploads/2023/03/PBAY_6.jpg
END:VEVENT
BEGIN:VEVENT
DTSTART;TZID=UTC:20230724T080000
DTEND;TZID=UTC:20230724T085000
DTSTAMP:20260420T043538
CREATED:20230320T190228Z
LAST-MODIFIED:20230321T144424Z
UID:3581-1690185600-1690188600@pelicanbayaquatics.com
SUMMARY:AquaFitness
DESCRIPTION:AquaFitness will be held every Monday\, Wednesday\, and Friday from 8am to 8:50am this season. \n$6.00 and pass holders are free. \nTry our new class for all ages – Aqua Aerobics! Led by a trained instructor\, our class is the perfect morning workout to get the body moving and the heart pumping\, while staying low-impact.
URL:https://pelicanbayaquatics.com/event/aquafitness-22/
ATTACH;FMTTYPE=image/webp:https://pelicanbayaquatics.com/wp-content/uploads/2022/02/11062b_9f19a313467049cc8d0b58fdd44737ca_mv2.webp
END:VEVENT
BEGIN:VEVENT
DTSTART;TZID=UTC:20230721T080000
DTEND;TZID=UTC:20230721T085000
DTSTAMP:20260420T043538
CREATED:20230320T190109Z
LAST-MODIFIED:20230321T144441Z
UID:3579-1689926400-1689929400@pelicanbayaquatics.com
SUMMARY:AquaFitness
DESCRIPTION:$6.00 and pass holders are free. \nTry our new class for all ages – Aqua Aerobics! Led by a trained instructor\, our class is the perfect morning workout to get the body moving and the heart pumping\, while staying low-impact. \nAquaFitness will be held every Monday\, Wednesday\, and Friday from 8am to 8:50am this season.
URL:https://pelicanbayaquatics.com/event/aquafitness-21/
ATTACH;FMTTYPE=image/webp:https://pelicanbayaquatics.com/wp-content/uploads/2022/02/11062b_9f19a313467049cc8d0b58fdd44737ca_mv2.webp
END:VEVENT
BEGIN:VEVENT
DTSTART;TZID=UTC:20230720T190000
DTEND;TZID=UTC:20230720T210000
DTSTAMP:20260420T043538
CREATED:20230320T190855Z
LAST-MODIFIED:20230320T190855Z
UID:3613-1689879600-1689886800@pelicanbayaquatics.com
SUMMARY:Twilight Swim
DESCRIPTION:Twilight swim will be held every Tuesday & Thursday from 7 pm- 9 pm
URL:https://pelicanbayaquatics.com/event/twilight-swim-13/
ATTACH;FMTTYPE=image/jpeg:https://pelicanbayaquatics.com/wp-content/uploads/2023/03/PBAY_6.jpg
END:VEVENT
BEGIN:VEVENT
DTSTART;TZID=UTC:20230719T080000
DTEND;TZID=UTC:20230719T085000
DTSTAMP:20260420T043538
CREATED:20230320T190029Z
LAST-MODIFIED:20230321T144458Z
UID:3577-1689753600-1689756600@pelicanbayaquatics.com
SUMMARY:AquaFitness
DESCRIPTION:AquaFitness will be held every Monday\, Wednesday\, and Friday from 8am to 8:50am this season. \n$6.00 and pass holders are free. \nTry our new class for all ages – Aqua Aerobics! Led by a trained instructor\, our class is the perfect morning workout to get the body moving and the heart pumping\, while staying low-impact.
URL:https://pelicanbayaquatics.com/event/aquafitness-20/
ATTACH;FMTTYPE=image/webp:https://pelicanbayaquatics.com/wp-content/uploads/2022/02/11062b_9f19a313467049cc8d0b58fdd44737ca_mv2.webp
END:VEVENT
BEGIN:VEVENT
DTSTART;TZID=UTC:20230718T190000
DTEND;TZID=UTC:20230718T210000
DTSTAMP:20260420T043538
CREATED:20230320T190840Z
LAST-MODIFIED:20230320T190840Z
UID:3611-1689706800-1689714000@pelicanbayaquatics.com
SUMMARY:Twilight Swim
DESCRIPTION:Twilight swim will be held every Tuesday & Thursday from 7 pm- 9 pm
URL:https://pelicanbayaquatics.com/event/twilight-swim-12/
ATTACH;FMTTYPE=image/jpeg:https://pelicanbayaquatics.com/wp-content/uploads/2023/03/PBAY_6.jpg
END:VEVENT
END:VCALENDAR