BEGIN:VCALENDAR
VERSION:2.0
PRODID:-//Pelican Bay - ECPv6.15.20//NONSGML v1.0//EN
CALSCALE:GREGORIAN
METHOD:PUBLISH
X-WR-CALNAME:Pelican Bay
X-ORIGINAL-URL:https://pelicanbayaquatics.com
X-WR-CALDESC:Events for Pelican Bay
REFRESH-INTERVAL;VALUE=DURATION:PT1H
X-Robots-Tag:noindex
X-PUBLISHED-TTL:PT1H
BEGIN:VTIMEZONE
TZID:UTC
BEGIN:STANDARD
TZOFFSETFROM:+0000
TZOFFSETTO:+0000
TZNAME:UTC
DTSTART:20210101T000000
END:STANDARD
END:VTIMEZONE
BEGIN:VEVENT
DTSTART;TZID=UTC:20230527T110000
DTEND;TZID=UTC:20230527T180000
DTSTAMP:20260420T151541
CREATED:20230320T172127Z
LAST-MODIFIED:20230320T174335Z
UID:3492-1685185200-1685210400@pelicanbayaquatics.com
SUMMARY:First day of the Season
DESCRIPTION:The 2023 Season is finally here! \nOpen to the public and pass holders.
URL:https://pelicanbayaquatics.com/event/first-day-of-the-season/
ATTACH;FMTTYPE=image/jpeg:https://pelicanbayaquatics.com/wp-content/uploads/2022/01/istockphoto-509801333-612x612-1.jpeg
END:VEVENT
BEGIN:VEVENT
DTSTART;TZID=UTC:20230526T160000
DTEND;TZID=UTC:20230526T200000
DTSTAMP:20260420T151541
CREATED:20230320T172524Z
LAST-MODIFIED:20230320T174422Z
UID:3494-1685116800-1685131200@pelicanbayaquatics.com
SUMMARY:Passholder Night
DESCRIPTION:Pass holders can visit Pelican Bay before we open to the public. \nFree for pass holders.
URL:https://pelicanbayaquatics.com/event/passholder-night/
ATTACH;FMTTYPE=image/jpeg:https://pelicanbayaquatics.com/wp-content/uploads/2022/01/istockphoto-509783057-612x612-1.jpeg
END:VEVENT
BEGIN:VEVENT
DTSTART;TZID=UTC:20220910T120000
DTEND;TZID=UTC:20220910T140000
DTSTAMP:20260420T151541
CREATED:20220329T194626Z
LAST-MODIFIED:20220329T194626Z
UID:973-1662811200-1662818400@pelicanbayaquatics.com
SUMMARY:Doggie Paddles
DESCRIPTION:We partner with Kiwanis for the cutest and fluffiest event of the year! Is their time to have fun in the park! Big or small\, bring them all. \nThis will close our 2022 Season. We will see you in 2023! \n$10.00 per dog
URL:https://pelicanbayaquatics.com/event/doggie-paddles/
ATTACH;FMTTYPE=image/jpeg:https://pelicanbayaquatics.com/wp-content/uploads/2022/03/PBAY_DoggyPaddle2021_5-scaled.jpg
END:VEVENT
BEGIN:VEVENT
DTSTART;VALUE=DATE:20220806
DTEND;VALUE=DATE:20220807
DTSTAMP:20260420T151541
CREATED:20220729T141955Z
LAST-MODIFIED:20220729T142017Z
UID:1873-1659744000-1659830399@pelicanbayaquatics.com
SUMMARY:Pelican Bay Open on Weekends Only.
DESCRIPTION:Starting August 6th\, Pelican Bay will be open on weekends only!
URL:https://pelicanbayaquatics.com/event/pelican-bay-open-on-weekends-only/
LOCATION:Pelican Bay Aquatic Center
ATTACH;FMTTYPE=image/jpeg:https://pelicanbayaquatics.com/wp-content/uploads/2022/01/istockphoto-509801333-612x612-1.jpeg
END:VEVENT
BEGIN:VEVENT
DTSTART;VALUE=DATE:20220805
DTEND;VALUE=DATE:20220806
DTSTAMP:20260420T151541
CREATED:20220729T141816Z
LAST-MODIFIED:20220729T141816Z
UID:1870-1659657600-1659743999@pelicanbayaquatics.com
SUMMARY:Last Weekday of Pelican Bay Aquatics Season
DESCRIPTION:Friday\, August 5th is the last weekday of the summer for Pelican Bay Aquatics. We will be open on weekends only starting August 6th.
URL:https://pelicanbayaquatics.com/event/last-weekday-of-pelican-bay-aquatics-season/
LOCATION:Pelican Bay Aquatic Center
ATTACH;FMTTYPE=image/webp:https://pelicanbayaquatics.com/wp-content/uploads/2022/02/f63f11_7f32478300de493a87581b75f7b0dca0_mv2_d_4928_3264_s_4_2.webp
END:VEVENT
BEGIN:VEVENT
DTSTART;VALUE=DATE:20220728
DTEND;VALUE=DATE:20220729
DTSTAMP:20260420T151541
CREATED:20220803T010234Z
LAST-MODIFIED:20220803T010234Z
UID:1925-1658966400-1659052799@pelicanbayaquatics.com
SUMMARY:Last Twilight Day
DESCRIPTION:July 28th is the last day of Twilight hours.
URL:https://pelicanbayaquatics.com/event/last-twilight-day/
LOCATION:Pelican Bay Aquatic Center
END:VEVENT
BEGIN:VEVENT
DTSTART;TZID=UTC:20220713T190000
DTEND;TZID=UTC:20220713T210000
DTSTAMP:20260420T151541
CREATED:20220329T194053Z
LAST-MODIFIED:20220329T194053Z
UID:967-1657738800-1657746000@pelicanbayaquatics.com
SUMMARY:First Responders Appreciation Night
DESCRIPTION:This is our way to say “Thank you” to all you do for our community. \nFirst Responders: Free (must present work ID) \nPublic: $5.00 per person
URL:https://pelicanbayaquatics.com/event/first-responders-appreciation-night/
ATTACH;FMTTYPE=image/jpeg:https://pelicanbayaquatics.com/wp-content/uploads/2022/03/AdobeStock_46917456_70-scaled.jpeg
END:VEVENT
BEGIN:VEVENT
DTSTART;TZID=UTC:20220704T190000
DTEND;TZID=UTC:20220704T220000
DTSTAMP:20260420T151541
CREATED:20220630T204136Z
LAST-MODIFIED:20220630T204136Z
UID:1589-1656961200-1656972000@pelicanbayaquatics.com
SUMMARY:Liberty Fest
DESCRIPTION:Join us to celebrate the 4th of July with night swim and front row seats to Edmond’s fireworks show! \nPark will be open from Noon- 5 pm and we will reopen from 7 pm until 10 pm for the Liberty Fest celebration. \nTickets are $10 per person\, and kids under 3 are free. \nYou can purchase the tickets in advance at the park\, by calling us\, or at the day of the event at the door. \nWe are looking forward to celebrate Independence Day with you.
URL:https://pelicanbayaquatics.com/event/liberty-fest/
END:VEVENT
BEGIN:VEVENT
DTSTART;TZID=UTC:20220617T190000
DTEND;TZID=UTC:20220617T210000
DTSTAMP:20260420T151541
CREATED:20220329T192850Z
LAST-MODIFIED:20220329T192850Z
UID:959-1655492400-1655499600@pelicanbayaquatics.com
SUMMARY:Daddy Daughter Luau
DESCRIPTION:Dads bring in your daughters for a fun luau event and celebrate Father’s day earlier. \n$10 per person
URL:https://pelicanbayaquatics.com/event/daddy-daughter-luau/
ATTACH;FMTTYPE=image/jpeg:https://pelicanbayaquatics.com/wp-content/uploads/2022/03/daddaughter-scaled.jpeg
END:VEVENT
END:VCALENDAR