BEGIN:VCALENDAR
VERSION:2.0
PRODID:-//Pelican Bay - ECPv6.15.20//NONSGML v1.0//EN
CALSCALE:GREGORIAN
METHOD:PUBLISH
X-WR-CALNAME:Pelican Bay
X-ORIGINAL-URL:https://pelicanbayaquatics.com
X-WR-CALDESC:Events for Pelican Bay
REFRESH-INTERVAL;VALUE=DURATION:PT1H
X-Robots-Tag:noindex
X-PUBLISHED-TTL:PT1H
BEGIN:VTIMEZONE
TZID:UTC
BEGIN:STANDARD
TZOFFSETFROM:+0000
TZOFFSETTO:+0000
TZNAME:UTC
DTSTART:20220101T000000
END:STANDARD
END:VTIMEZONE
BEGIN:VEVENT
DTSTART;TZID=UTC:20230711T190000
DTEND;TZID=UTC:20230711T210000
DTSTAMP:20260420T090925
CREATED:20230320T190803Z
LAST-MODIFIED:20230320T190803Z
UID:3607-1689102000-1689109200@pelicanbayaquatics.com
SUMMARY:Twilight Swim
DESCRIPTION:Twilight swim will be held every Tuesday & Thursday from 7 pm- 9 pm
URL:https://pelicanbayaquatics.com/event/twilight-swim-10/
ATTACH;FMTTYPE=image/jpeg:https://pelicanbayaquatics.com/wp-content/uploads/2023/03/PBAY_6.jpg
END:VEVENT
BEGIN:VEVENT
DTSTART;TZID=UTC:20230710T080000
DTEND;TZID=UTC:20230710T085000
DTSTAMP:20260420T090925
CREATED:20230320T185710Z
LAST-MODIFIED:20230321T152311Z
UID:3569-1688976000-1688979000@pelicanbayaquatics.com
SUMMARY:AquaFitness
DESCRIPTION:AquaFitness will be held every Monday\, Wednesday\, and Friday from 8am to 8:50am this season. \n$6.00 and pass holders are free. \nTry our new class for all ages – Aqua Aerobics! Led by a trained instructor\, our class is the perfect morning workout to get the body moving and the heart pumping\, while staying low-impact.
URL:https://pelicanbayaquatics.com/event/aquafitness-16/
ATTACH;FMTTYPE=image/webp:https://pelicanbayaquatics.com/wp-content/uploads/2022/02/11062b_9f19a313467049cc8d0b58fdd44737ca_mv2.webp
END:VEVENT
BEGIN:VEVENT
DTSTART;TZID=UTC:20230707T080000
DTEND;TZID=UTC:20230707T085000
DTSTAMP:20260420T090925
CREATED:20230320T185642Z
LAST-MODIFIED:20230321T152412Z
UID:3565-1688716800-1688719800@pelicanbayaquatics.com
SUMMARY:AquaFitness
DESCRIPTION:AquaFitness will be held every Monday\, Wednesday\, and Friday from 8am to 8:50am this season. \n$6.00 and pass holders are free. \nTry our new class for all ages – Aqua Aerobics! Led by a trained instructor\, our class is the perfect morning workout to get the body moving and the heart pumping\, while staying low-impact.
URL:https://pelicanbayaquatics.com/event/aquafitness-15/
ATTACH;FMTTYPE=image/webp:https://pelicanbayaquatics.com/wp-content/uploads/2022/02/11062b_9f19a313467049cc8d0b58fdd44737ca_mv2.webp
END:VEVENT
BEGIN:VEVENT
DTSTART;TZID=UTC:20230706T190000
DTEND;TZID=UTC:20230706T210000
DTSTAMP:20260420T090925
CREATED:20230320T190727Z
LAST-MODIFIED:20230320T190727Z
UID:3605-1688670000-1688677200@pelicanbayaquatics.com
SUMMARY:Twilight Swim
DESCRIPTION:Twilight swim will be held every Tuesday & Thursday from 7 pm- 9 pm
URL:https://pelicanbayaquatics.com/event/twilight-swim-9/
ATTACH;FMTTYPE=image/jpeg:https://pelicanbayaquatics.com/wp-content/uploads/2023/03/PBAY_6.jpg
END:VEVENT
BEGIN:VEVENT
DTSTART;TZID=UTC:20230705T080000
DTEND;TZID=UTC:20230705T085000
DTSTAMP:20260420T090925
CREATED:20230320T185357Z
LAST-MODIFIED:20230321T152434Z
UID:3563-1688544000-1688547000@pelicanbayaquatics.com
SUMMARY:AquaFitness
DESCRIPTION:AquaFitness will be held every Monday\, Wednesday\, and Friday from 8am to 8:50am this season. \n$6.00 and pass holders are free. \nTry our new class for all ages – Aqua Aerobics! Led by a trained instructor\, our class is the perfect morning workout to get the body moving and the heart pumping\, while staying low-impact.
URL:https://pelicanbayaquatics.com/event/aquafitness-14/
ATTACH;FMTTYPE=image/webp:https://pelicanbayaquatics.com/wp-content/uploads/2022/02/11062b_9f19a313467049cc8d0b58fdd44737ca_mv2.webp
END:VEVENT
BEGIN:VEVENT
DTSTART;TZID=UTC:20230704T080000
DTEND;TZID=UTC:20230704T170000
DTSTAMP:20260420T090925
CREATED:20230320T185614Z
LAST-MODIFIED:20230320T185614Z
UID:3566-1688457600-1688490000@pelicanbayaquatics.com
SUMMARY:Liberty Fest
DESCRIPTION:Come watch the beautiful city’s 4th of July fireworks from our park. Pool will be closed at 5pm. Liberty Fest firework’s watch will be from 8pm – 11 pm
URL:https://pelicanbayaquatics.com/event/liberty-fest-2/
ATTACH;FMTTYPE=image/jpeg:https://pelicanbayaquatics.com/wp-content/uploads/2022/06/214811851_4013808442028252_7537924962936582972_n.jpeg
END:VEVENT
BEGIN:VEVENT
DTSTART;TZID=UTC:20230703T080000
DTEND;TZID=UTC:20230703T085000
DTSTAMP:20260420T090925
CREATED:20230320T185107Z
LAST-MODIFIED:20230321T152551Z
UID:3561-1688371200-1688374200@pelicanbayaquatics.com
SUMMARY:AquaFitness
DESCRIPTION:AquaFitness will be held every Monday\, Wednesday\, and Friday from 8am to 8:50am this season. \n$6.00 and pass holders are free. \nTry our new class for all ages – Aqua Aerobics! Led by a trained instructor\, our class is the perfect morning workout to get the body moving and the heart pumping\, while staying low-impact.
URL:https://pelicanbayaquatics.com/event/aquafitness-13/
ATTACH;FMTTYPE=image/webp:https://pelicanbayaquatics.com/wp-content/uploads/2022/02/11062b_9f19a313467049cc8d0b58fdd44737ca_mv2.webp
END:VEVENT
BEGIN:VEVENT
DTSTART;TZID=UTC:20230630T080000
DTEND;TZID=UTC:20230630T085000
DTSTAMP:20260420T090925
CREATED:20230320T185043Z
LAST-MODIFIED:20230321T152625Z
UID:3559-1688112000-1688115000@pelicanbayaquatics.com
SUMMARY:AquaFitness
DESCRIPTION:AquaFitness will be held every Monday\, Wednesday\, and Friday from 8am to 8:50am this season. \n$6.00 and pass holders are free. \nTry our new class for all ages – Aqua Aerobics! Led by a trained instructor\, our class is the perfect morning workout to get the body moving and the heart pumping\, while staying low-impact.
URL:https://pelicanbayaquatics.com/event/aquafitness-12/
ATTACH;FMTTYPE=image/webp:https://pelicanbayaquatics.com/wp-content/uploads/2022/02/11062b_9f19a313467049cc8d0b58fdd44737ca_mv2.webp
END:VEVENT
BEGIN:VEVENT
DTSTART;TZID=UTC:20230629T190000
DTEND;TZID=UTC:20230629T210000
DTSTAMP:20260420T090925
CREATED:20230320T190654Z
LAST-MODIFIED:20230320T190654Z
UID:3603-1688065200-1688072400@pelicanbayaquatics.com
SUMMARY:Twilight Swim
DESCRIPTION:Twilight swim will be held every Tuesday & Thursday from 7 pm- 9 pm
URL:https://pelicanbayaquatics.com/event/twilight-swim-8/
ATTACH;FMTTYPE=image/jpeg:https://pelicanbayaquatics.com/wp-content/uploads/2023/03/PBAY_6.jpg
END:VEVENT
BEGIN:VEVENT
DTSTART;TZID=UTC:20230628T080000
DTEND;TZID=UTC:20230628T085000
DTSTAMP:20260420T090925
CREATED:20230320T185025Z
LAST-MODIFIED:20230321T152742Z
UID:3557-1687939200-1687942200@pelicanbayaquatics.com
SUMMARY:AquaFitness
DESCRIPTION:AquaFitness will be held every Monday\, Wednesday\, and Friday from 8am to 8:50am this season. \n$6.00 and pass holders are free. \nTry our new class for all ages – Aqua Aerobics! Led by a trained instructor\, our class is the perfect morning workout to get the body moving and the heart pumping\, while staying low-impact.
URL:https://pelicanbayaquatics.com/event/aquafitness-11/
ATTACH;FMTTYPE=image/webp:https://pelicanbayaquatics.com/wp-content/uploads/2022/02/11062b_9f19a313467049cc8d0b58fdd44737ca_mv2.webp
END:VEVENT
BEGIN:VEVENT
DTSTART;TZID=UTC:20230627T190000
DTEND;TZID=UTC:20230627T210000
DTSTAMP:20260420T090925
CREATED:20230320T190636Z
LAST-MODIFIED:20230320T190636Z
UID:3601-1687892400-1687899600@pelicanbayaquatics.com
SUMMARY:Twilight Swim
DESCRIPTION:Twilight swim will be held every Tuesday & Thursday from 7 pm- 9 pm
URL:https://pelicanbayaquatics.com/event/twilight-swim-7/
ATTACH;FMTTYPE=image/jpeg:https://pelicanbayaquatics.com/wp-content/uploads/2023/03/PBAY_6.jpg
END:VEVENT
BEGIN:VEVENT
DTSTART;TZID=UTC:20230626T080000
DTEND;TZID=UTC:20230626T085000
DTSTAMP:20260420T090926
CREATED:20230320T185002Z
LAST-MODIFIED:20230321T152724Z
UID:3555-1687766400-1687769400@pelicanbayaquatics.com
SUMMARY:AquaFitness
DESCRIPTION:AquaFitness will be held every Monday\, Wednesday\, and Friday from 8am to 8:50am this season. \n$6.00 and pass holders are free. \nTry our new class for all ages – Aqua Aerobics! Led by a trained instructor\, our class is the perfect morning workout to get the body moving and the heart pumping\, while staying low-impact.
URL:https://pelicanbayaquatics.com/event/aquafitness-10/
ATTACH;FMTTYPE=image/webp:https://pelicanbayaquatics.com/wp-content/uploads/2022/02/11062b_9f19a313467049cc8d0b58fdd44737ca_mv2.webp
END:VEVENT
BEGIN:VEVENT
DTSTART;TZID=UTC:20230623T080000
DTEND;TZID=UTC:20230623T085000
DTSTAMP:20260420T090926
CREATED:20230320T184941Z
LAST-MODIFIED:20230321T152658Z
UID:3553-1687507200-1687510200@pelicanbayaquatics.com
SUMMARY:AquaFitness
DESCRIPTION:AquaFitness will be held every Monday\, Wednesday\, and Friday from 8am to 8:50am this season. \n$6.00 and pass holders are free. \nTry our new class for all ages – Aqua Aerobics! Led by a trained instructor\, our class is the perfect morning workout to get the body moving and the heart pumping\, while staying low-impact.
URL:https://pelicanbayaquatics.com/event/aquafitness-9/
ATTACH;FMTTYPE=image/webp:https://pelicanbayaquatics.com/wp-content/uploads/2022/02/11062b_9f19a313467049cc8d0b58fdd44737ca_mv2.webp
END:VEVENT
BEGIN:VEVENT
DTSTART;TZID=UTC:20230622T190000
DTEND;TZID=UTC:20230622T210000
DTSTAMP:20260420T090926
CREATED:20230320T190614Z
LAST-MODIFIED:20230320T190615Z
UID:3599-1687460400-1687467600@pelicanbayaquatics.com
SUMMARY:Twilight Swim
DESCRIPTION:Twilight swim will be held every Tuesday & Thursday from 7 pm- 9 pm
URL:https://pelicanbayaquatics.com/event/twilight-swim-6/
ATTACH;FMTTYPE=image/jpeg:https://pelicanbayaquatics.com/wp-content/uploads/2023/03/PBAY_6.jpg
END:VEVENT
BEGIN:VEVENT
DTSTART;TZID=UTC:20230621T080000
DTEND;TZID=UTC:20230621T085000
DTSTAMP:20260420T090926
CREATED:20230320T184920Z
LAST-MODIFIED:20230321T152816Z
UID:3551-1687334400-1687337400@pelicanbayaquatics.com
SUMMARY:AquaFitness
DESCRIPTION:AquaFitness will be held every Monday\, Wednesday\, and Friday from 8am to 8:50am this season. \n$6.00 and pass holders are free. \nTry our new class for all ages – Aqua Aerobics! Led by a trained instructor\, our class is the perfect morning workout to get the body moving and the heart pumping\, while staying low-impact.
URL:https://pelicanbayaquatics.com/event/aquafitness-8/
ATTACH;FMTTYPE=image/webp:https://pelicanbayaquatics.com/wp-content/uploads/2022/02/11062b_9f19a313467049cc8d0b58fdd44737ca_mv2.webp
END:VEVENT
BEGIN:VEVENT
DTSTART;TZID=UTC:20230620T190000
DTEND;TZID=UTC:20230620T210000
DTSTAMP:20260420T090926
CREATED:20230320T190554Z
LAST-MODIFIED:20230320T190554Z
UID:3597-1687287600-1687294800@pelicanbayaquatics.com
SUMMARY:Twilight Swim
DESCRIPTION:Twilight swim will be held every Tuesday & Thursday from 7 pm- 9 pm
URL:https://pelicanbayaquatics.com/event/twilight-swim-5/
ATTACH;FMTTYPE=image/jpeg:https://pelicanbayaquatics.com/wp-content/uploads/2023/03/PBAY_6.jpg
END:VEVENT
BEGIN:VEVENT
DTSTART;TZID=UTC:20230619T080000
DTEND;TZID=UTC:20230619T085000
DTSTAMP:20260420T090926
CREATED:20230320T184859Z
LAST-MODIFIED:20230321T152848Z
UID:3549-1687161600-1687164600@pelicanbayaquatics.com
SUMMARY:AquaFitness
DESCRIPTION:AquaFitness will be held every Monday\, Wednesday\, and Friday from 8am to 8:50am this season. \n$6.00 and pass holders are free. \nTry our new class for all ages – Aqua Aerobics! Led by a trained instructor\, our class is the perfect morning workout to get the body moving and the heart pumping\, while staying low-impact.
URL:https://pelicanbayaquatics.com/event/aquafitness-7/
ATTACH;FMTTYPE=image/webp:https://pelicanbayaquatics.com/wp-content/uploads/2022/02/11062b_9f19a313467049cc8d0b58fdd44737ca_mv2.webp
END:VEVENT
BEGIN:VEVENT
DTSTART;TZID=UTC:20230616T080000
DTEND;TZID=UTC:20230616T085000
DTSTAMP:20260420T090926
CREATED:20230320T184830Z
LAST-MODIFIED:20230321T152912Z
UID:3547-1686902400-1686905400@pelicanbayaquatics.com
SUMMARY:AquaFitness
DESCRIPTION:AquaFitness will be held every Monday\, Wednesday\, and Friday from 8am to 8:50am this season. \n$6.00 and pass holders are free. \nTry our new class for all ages – Aqua Aerobics! Led by a trained instructor\, our class is the perfect morning workout to get the body moving and the heart pumping\, while staying low-impact.
URL:https://pelicanbayaquatics.com/event/aquafitness-6/
ATTACH;FMTTYPE=image/webp:https://pelicanbayaquatics.com/wp-content/uploads/2022/02/11062b_9f19a313467049cc8d0b58fdd44737ca_mv2.webp
END:VEVENT
BEGIN:VEVENT
DTSTART;TZID=UTC:20230615T190000
DTEND;TZID=UTC:20230615T210000
DTSTAMP:20260420T090926
CREATED:20230320T190532Z
LAST-MODIFIED:20230320T190532Z
UID:3595-1686855600-1686862800@pelicanbayaquatics.com
SUMMARY:Twilight Swim
DESCRIPTION:Twilight swim will be held every Tuesday & Thursday from 7 pm- 9 pm
URL:https://pelicanbayaquatics.com/event/twilight-swim-4/
ATTACH;FMTTYPE=image/jpeg:https://pelicanbayaquatics.com/wp-content/uploads/2023/03/PBAY_6.jpg
END:VEVENT
BEGIN:VEVENT
DTSTART;TZID=UTC:20230614T080000
DTEND;TZID=UTC:20230614T085000
DTSTAMP:20260420T090926
CREATED:20230320T184800Z
LAST-MODIFIED:20230321T152930Z
UID:3545-1686729600-1686732600@pelicanbayaquatics.com
SUMMARY:AquaFitness
DESCRIPTION:AquaFitness will be held every Monday\, Wednesday\, and Friday from 8am to 8:50am this season. \n$6.00 and pass holders are free. \nTry our new class for all ages – Aqua Aerobics! Led by a trained instructor\, our class is the perfect morning workout to get the body moving and the heart pumping\, while staying low-impact.
URL:https://pelicanbayaquatics.com/event/aquafitness-5/
ATTACH;FMTTYPE=image/webp:https://pelicanbayaquatics.com/wp-content/uploads/2022/02/11062b_9f19a313467049cc8d0b58fdd44737ca_mv2.webp
END:VEVENT
BEGIN:VEVENT
DTSTART;TZID=UTC:20230613T190000
DTEND;TZID=UTC:20230613T210000
DTSTAMP:20260420T090926
CREATED:20230320T190514Z
LAST-MODIFIED:20230320T190514Z
UID:3593-1686682800-1686690000@pelicanbayaquatics.com
SUMMARY:Twilight Swim
DESCRIPTION:Twilight swim will be held every Tuesday & Thursday from 7 pm- 9 pm
URL:https://pelicanbayaquatics.com/event/twilight-swim-3/
ATTACH;FMTTYPE=image/jpeg:https://pelicanbayaquatics.com/wp-content/uploads/2023/03/PBAY_6.jpg
END:VEVENT
BEGIN:VEVENT
DTSTART;TZID=UTC:20230612T080000
DTEND;TZID=UTC:20230612T085000
DTSTAMP:20260420T090926
CREATED:20230320T184742Z
LAST-MODIFIED:20230321T152946Z
UID:3543-1686556800-1686559800@pelicanbayaquatics.com
SUMMARY:AquaFitness
DESCRIPTION:AquaFitness will be held every Monday\, Wednesday\, and Friday from 8am to 8:50am this season. \n$6.00 and pass holders are free. \nTry our new class for all ages – Aqua Aerobics! Led by a trained instructor\, our class is the perfect morning workout to get the body moving and the heart pumping\, while staying low-impact.
URL:https://pelicanbayaquatics.com/event/aquafitness-4/
ATTACH;FMTTYPE=image/webp:https://pelicanbayaquatics.com/wp-content/uploads/2022/02/11062b_9f19a313467049cc8d0b58fdd44737ca_mv2.webp
END:VEVENT
BEGIN:VEVENT
DTSTART;TZID=UTC:20230609T080000
DTEND;TZID=UTC:20230609T085000
DTSTAMP:20260420T090926
CREATED:20230320T184707Z
LAST-MODIFIED:20230321T153000Z
UID:3541-1686297600-1686300600@pelicanbayaquatics.com
SUMMARY:AquaFitness
DESCRIPTION:AquaFitness will be held every Monday\, Wednesday\, and Friday from 8am to 8:50am this season. \n$6.00 and pass holders are free. \nTry our new class for all ages – Aqua Aerobics! Led by a trained instructor\, our class is the perfect morning workout to get the body moving and the heart pumping\, while staying low-impact.
URL:https://pelicanbayaquatics.com/event/aquafitness-3/
ATTACH;FMTTYPE=image/webp:https://pelicanbayaquatics.com/wp-content/uploads/2022/02/11062b_9f19a313467049cc8d0b58fdd44737ca_mv2.webp
END:VEVENT
BEGIN:VEVENT
DTSTART;TZID=UTC:20230608T190000
DTEND;TZID=UTC:20230608T210000
DTSTAMP:20260420T090926
CREATED:20230320T190447Z
LAST-MODIFIED:20230320T190447Z
UID:3591-1686250800-1686258000@pelicanbayaquatics.com
SUMMARY:Twilight Swim
DESCRIPTION:Twilight swim will be held every Tuesday & Thursday from 7 pm- 9 pm
URL:https://pelicanbayaquatics.com/event/twilight-swim-2/
ATTACH;FMTTYPE=image/jpeg:https://pelicanbayaquatics.com/wp-content/uploads/2023/03/PBAY_6.jpg
END:VEVENT
BEGIN:VEVENT
DTSTART;TZID=UTC:20230607T080000
DTEND;TZID=UTC:20230607T085000
DTSTAMP:20260420T090926
CREATED:20230320T184642Z
LAST-MODIFIED:20230321T153017Z
UID:3539-1686124800-1686127800@pelicanbayaquatics.com
SUMMARY:AquaFitness
DESCRIPTION:AquaFitness will be held every Monday\, Wednesday\, and Friday from 8am to 8:50am this season. \n$6.00 and pass holders are free. \nTry our new class for all ages – Aqua Aerobics! Led by a trained instructor\, our class is the perfect morning workout to get the body moving and the heart pumping\, while staying low-impact.
URL:https://pelicanbayaquatics.com/event/aquafitness-2/
ATTACH;FMTTYPE=image/webp:https://pelicanbayaquatics.com/wp-content/uploads/2022/02/11062b_9f19a313467049cc8d0b58fdd44737ca_mv2.webp
END:VEVENT
BEGIN:VEVENT
DTSTART;TZID=UTC:20230606T190000
DTEND;TZID=UTC:20230606T210000
DTSTAMP:20260420T090926
CREATED:20230320T190425Z
LAST-MODIFIED:20230320T190425Z
UID:3589-1686078000-1686085200@pelicanbayaquatics.com
SUMMARY:Twilight Swim
DESCRIPTION:Twilight swim will be held every Tuesday & Thursday from 7 pm- 9 pm
URL:https://pelicanbayaquatics.com/event/twilight-swim/
ATTACH;FMTTYPE=image/jpeg:https://pelicanbayaquatics.com/wp-content/uploads/2023/03/PBAY_6.jpg
END:VEVENT
BEGIN:VEVENT
DTSTART;TZID=UTC:20230605T080000
DTEND;TZID=UTC:20230605T085000
DTSTAMP:20260420T090926
CREATED:20230320T184554Z
LAST-MODIFIED:20230320T184554Z
UID:3536-1685952000-1685955000@pelicanbayaquatics.com
SUMMARY:AquaFitness
DESCRIPTION:AquaFitness will be held every Monday\, Wednesday\, and Friday from 8am to 8:50am this season.
URL:https://pelicanbayaquatics.com/event/aquafitness/
ATTACH;FMTTYPE=image/webp:https://pelicanbayaquatics.com/wp-content/uploads/2022/02/11062b_9f19a313467049cc8d0b58fdd44737ca_mv2.webp
END:VEVENT
BEGIN:VEVENT
DTSTART;TZID=UTC:20230530T080000
DTEND;TZID=UTC:20230530T170000
DTSTAMP:20260420T090926
CREATED:20230320T174725Z
LAST-MODIFIED:20230320T174725Z
UID:3501-1685433600-1685466000@pelicanbayaquatics.com
SUMMARY:First Day of Swim Lesson
DESCRIPTION:Group lessons and private lessons are available. Book online.
URL:https://pelicanbayaquatics.com/event/first-day-of-swim-lesson/
ATTACH;FMTTYPE=image/jpeg:https://pelicanbayaquatics.com/wp-content/uploads/2022/01/istockphoto-509106258-2048x2048-1.jpg
END:VEVENT
BEGIN:VEVENT
DTSTART;TZID=UTC:20230527T110000
DTEND;TZID=UTC:20230527T180000
DTSTAMP:20260420T090926
CREATED:20230320T172127Z
LAST-MODIFIED:20230320T174335Z
UID:3492-1685185200-1685210400@pelicanbayaquatics.com
SUMMARY:First day of the Season
DESCRIPTION:The 2023 Season is finally here! \nOpen to the public and pass holders.
URL:https://pelicanbayaquatics.com/event/first-day-of-the-season/
ATTACH;FMTTYPE=image/jpeg:https://pelicanbayaquatics.com/wp-content/uploads/2022/01/istockphoto-509801333-612x612-1.jpeg
END:VEVENT
BEGIN:VEVENT
DTSTART;TZID=UTC:20230526T160000
DTEND;TZID=UTC:20230526T200000
DTSTAMP:20260420T090926
CREATED:20230320T172524Z
LAST-MODIFIED:20230320T174422Z
UID:3494-1685116800-1685131200@pelicanbayaquatics.com
SUMMARY:Passholder Night
DESCRIPTION:Pass holders can visit Pelican Bay before we open to the public. \nFree for pass holders.
URL:https://pelicanbayaquatics.com/event/passholder-night/
ATTACH;FMTTYPE=image/jpeg:https://pelicanbayaquatics.com/wp-content/uploads/2022/01/istockphoto-509783057-612x612-1.jpeg
END:VEVENT
END:VCALENDAR