BEGIN:VCALENDAR
VERSION:2.0
PRODID:-//Pelican Bay - ECPv6.15.20//NONSGML v1.0//EN
CALSCALE:GREGORIAN
METHOD:PUBLISH
X-WR-CALNAME:Pelican Bay
X-ORIGINAL-URL:https://pelicanbayaquatics.com
X-WR-CALDESC:Events for Pelican Bay
REFRESH-INTERVAL;VALUE=DURATION:PT1H
X-Robots-Tag:noindex
X-PUBLISHED-TTL:PT1H
BEGIN:VTIMEZONE
TZID:UTC
BEGIN:STANDARD
TZOFFSETFROM:+0000
TZOFFSETTO:+0000
TZNAME:UTC
DTSTART:20220101T000000
END:STANDARD
END:VTIMEZONE
BEGIN:VEVENT
DTSTART;VALUE=DATE:20230717
DTEND;VALUE=DATE:20230722
DTSTAMP:20260425T165050
CREATED:20230628T195704Z
LAST-MODIFIED:20230706T204137Z
UID:4447-1689552000-1689983999@pelicanbayaquatics.com
SUMMARY:Jr. Lifeguard Session 3
DESCRIPTION:Junior Lifeguard Camp is a great way to teach teens responsibility and skills while having fun. Students will be introduced to basic lifeguard skills\, including water safety\, rescue\, CPR\, AED\, and first aid. \n\n\n\n\nParticipants will receive: \n\nJunior Lifeguard Shirt\nWhistle\nFree access to Pelican Bay during Public Swim for the remainder of the season after the completion of the camp\nAn opportunity to compete together on a team against other municipality’s Junior Guards in the Junior Guard Olympics (July 31st\, 2022)\nParticipants who are 15 years old are given an opportunity to test for their full Lifeguard Certification\n\n\n\nAges:\n\n\n\n\n10 – 15 years old \nRequirements: \n\nMust be 10-15 years old by June 1st\nMust be able to swim independently without assistance 50 meters nonstop freestyle\nMust be able to tread water for 1 minute\nMust be able to fully submerge head in water\n\n\n\nJr. Lifeguard Camp Includes:\n\n\n\n\n\nFive Lessons (3 Hours Each): $100\nMonday-Friday 8:30 Am- 11:30 Am\nSession 1: June 13-20\nSession 2: June 20-24
URL:https://pelicanbayaquatics.com/event/jr-lifeguard-session-3/
LOCATION:Pelican Bay Aquatic Center
ATTACH;FMTTYPE=image/jpeg:https://pelicanbayaquatics.com/wp-content/uploads/2022/03/AdobeStock_102581192-scaled.jpeg
END:VEVENT
BEGIN:VEVENT
DTSTART;TZID=UTC:20230721T080000
DTEND;TZID=UTC:20230721T085000
DTSTAMP:20260425T165050
CREATED:20230320T190109Z
LAST-MODIFIED:20230321T144441Z
UID:3579-1689926400-1689929400@pelicanbayaquatics.com
SUMMARY:AquaFitness
DESCRIPTION:$6.00 and pass holders are free. \nTry our new class for all ages – Aqua Aerobics! Led by a trained instructor\, our class is the perfect morning workout to get the body moving and the heart pumping\, while staying low-impact. \nAquaFitness will be held every Monday\, Wednesday\, and Friday from 8am to 8:50am this season.
URL:https://pelicanbayaquatics.com/event/aquafitness-21/
ATTACH;FMTTYPE=image/webp:https://pelicanbayaquatics.com/wp-content/uploads/2022/02/11062b_9f19a313467049cc8d0b58fdd44737ca_mv2.webp
END:VEVENT
END:VCALENDAR