BEGIN:VCALENDAR
VERSION:2.0
PRODID:-//Pelican Bay - ECPv6.15.20//NONSGML v1.0//EN
CALSCALE:GREGORIAN
METHOD:PUBLISH
X-WR-CALNAME:Pelican Bay
X-ORIGINAL-URL:https://pelicanbayaquatics.com
X-WR-CALDESC:Events for Pelican Bay
REFRESH-INTERVAL;VALUE=DURATION:PT1H
X-Robots-Tag:noindex
X-PUBLISHED-TTL:PT1H
BEGIN:VTIMEZONE
TZID:UTC
BEGIN:STANDARD
TZOFFSETFROM:+0000
TZOFFSETTO:+0000
TZNAME:UTC
DTSTART:20220101T000000
END:STANDARD
END:VTIMEZONE
BEGIN:VEVENT
DTSTART;TZID=UTC:20230712T080000
DTEND;TZID=UTC:20230712T085000
DTSTAMP:20260425T212632
CREATED:20230320T185802Z
LAST-MODIFIED:20230321T144555Z
UID:3571-1689148800-1689151800@pelicanbayaquatics.com
SUMMARY:AquaFitness
DESCRIPTION:AquaFitness will be held every Monday\, Wednesday\, and Friday from 8am to 8:50am this season. \n$6.00 and pass holders are free. \nTry our new class for all ages – Aqua Aerobics! Led by a trained instructor\, our class is the perfect morning workout to get the body moving and the heart pumping\, while staying low-impact.
URL:https://pelicanbayaquatics.com/event/aquafitness-17/
ATTACH;FMTTYPE=image/webp:https://pelicanbayaquatics.com/wp-content/uploads/2022/02/11062b_9f19a313467049cc8d0b58fdd44737ca_mv2.webp
END:VEVENT
BEGIN:VEVENT
DTSTART;TZID=UTC:20230712T190000
DTEND;TZID=UTC:20230712T210000
DTSTAMP:20260425T212632
CREATED:20230320T184036Z
LAST-MODIFIED:20230706T204205Z
UID:3530-1689188400-1689195600@pelicanbayaquatics.com
SUMMARY:First Responders Night
DESCRIPTION:First responders will get in free of charge. Their guests and the general public will be $5 per person.
URL:https://pelicanbayaquatics.com/event/first-responders-night/
END:VEVENT
END:VCALENDAR