BEGIN:VCALENDAR
VERSION:2.0
PRODID:-//Pelican Bay - ECPv6.15.20//NONSGML v1.0//EN
CALSCALE:GREGORIAN
METHOD:PUBLISH
X-ORIGINAL-URL:https://pelicanbayaquatics.com
X-WR-CALDESC:Events for Pelican Bay
REFRESH-INTERVAL;VALUE=DURATION:PT1H
X-Robots-Tag:noindex
X-PUBLISHED-TTL:PT1H
BEGIN:VTIMEZONE
TZID:UTC
BEGIN:STANDARD
TZOFFSETFROM:+0000
TZOFFSETTO:+0000
TZNAME:UTC
DTSTART:20220101T000000
END:STANDARD
END:VTIMEZONE
BEGIN:VEVENT
DTSTART;TZID=UTC:20230526T160000
DTEND;TZID=UTC:20230526T200000
DTSTAMP:20260425T120703
CREATED:20230320T172524Z
LAST-MODIFIED:20230320T174422Z
UID:3494-1685116800-1685131200@pelicanbayaquatics.com
SUMMARY:Passholder Night
DESCRIPTION:Pass holders can visit Pelican Bay before we open to the public. \nFree for pass holders.
URL:https://pelicanbayaquatics.com/event/passholder-night/
ATTACH;FMTTYPE=image/jpeg:https://pelicanbayaquatics.com/wp-content/uploads/2022/01/istockphoto-509783057-612x612-1.jpeg
END:VEVENT
END:VCALENDAR