BEGIN:VCALENDAR
VERSION:2.0
PRODID:-//Pelican Bay - ECPv6.15.20//NONSGML v1.0//EN
CALSCALE:GREGORIAN
METHOD:PUBLISH
X-WR-CALNAME:Pelican Bay
X-ORIGINAL-URL:https://pelicanbayaquatics.com
X-WR-CALDESC:Events for Pelican Bay
REFRESH-INTERVAL;VALUE=DURATION:PT1H
X-Robots-Tag:noindex
X-PUBLISHED-TTL:PT1H
BEGIN:VTIMEZONE
TZID:UTC
BEGIN:STANDARD
TZOFFSETFROM:+0000
TZOFFSETTO:+0000
TZNAME:UTC
DTSTART:20210101T000000
END:STANDARD
END:VTIMEZONE
BEGIN:VEVENT
DTSTART;VALUE=DATE:20220806
DTEND;VALUE=DATE:20220807
DTSTAMP:20260425T022418
CREATED:20220729T141955Z
LAST-MODIFIED:20220729T142017Z
UID:1873-1659744000-1659830399@pelicanbayaquatics.com
SUMMARY:Pelican Bay Open on Weekends Only.
DESCRIPTION:Starting August 6th\, Pelican Bay will be open on weekends only!
URL:https://pelicanbayaquatics.com/event/pelican-bay-open-on-weekends-only/
LOCATION:Pelican Bay Aquatic Center
ATTACH;FMTTYPE=image/jpeg:https://pelicanbayaquatics.com/wp-content/uploads/2022/01/istockphoto-509801333-612x612-1.jpeg
END:VEVENT
END:VCALENDAR