BEGIN:VCALENDAR
VERSION:2.0
PRODID:-//Pelican Bay - ECPv6.15.20//NONSGML v1.0//EN
CALSCALE:GREGORIAN
METHOD:PUBLISH
X-ORIGINAL-URL:https://pelicanbayaquatics.com
X-WR-CALDESC:Events for Pelican Bay
REFRESH-INTERVAL;VALUE=DURATION:PT1H
X-Robots-Tag:noindex
X-PUBLISHED-TTL:PT1H
BEGIN:VTIMEZONE
TZID:UTC
BEGIN:STANDARD
TZOFFSETFROM:+0000
TZOFFSETTO:+0000
TZNAME:UTC
DTSTART:20210101T000000
END:STANDARD
END:VTIMEZONE
BEGIN:VEVENT
DTSTART;VALUE=DATE:20220728
DTEND;VALUE=DATE:20220729
DTSTAMP:20260424T214135
CREATED:20220803T010234Z
LAST-MODIFIED:20220803T010234Z
UID:1925-1658966400-1659052799@pelicanbayaquatics.com
SUMMARY:Last Twilight Day
DESCRIPTION:July 28th is the last day of Twilight hours.
URL:https://pelicanbayaquatics.com/event/last-twilight-day/
LOCATION:Pelican Bay Aquatic Center
END:VEVENT
END:VCALENDAR